BEGIN:VCALENDAR
VERSION:2.0
PRODID:-//Quanten Leap - ECPv6.15.20//NONSGML v1.0//EN
CALSCALE:GREGORIAN
METHOD:PUBLISH
X-WR-CALNAME:Quanten Leap
X-ORIGINAL-URL:https://quantenleap.com
X-WR-CALDESC:Eventos para Quanten Leap
REFRESH-INTERVAL;VALUE=DURATION:PT1H
X-Robots-Tag:noindex
X-PUBLISHED-TTL:PT1H
BEGIN:VTIMEZONE
TZID:Europe/Paris
BEGIN:DAYLIGHT
TZOFFSETFROM:+0100
TZOFFSETTO:+0200
TZNAME:CEST
DTSTART:20250330T010000
END:DAYLIGHT
BEGIN:STANDARD
TZOFFSETFROM:+0200
TZOFFSETTO:+0100
TZNAME:CET
DTSTART:20251026T010000
END:STANDARD
BEGIN:DAYLIGHT
TZOFFSETFROM:+0100
TZOFFSETTO:+0200
TZNAME:CEST
DTSTART:20260329T010000
END:DAYLIGHT
BEGIN:STANDARD
TZOFFSETFROM:+0200
TZOFFSETTO:+0100
TZNAME:CET
DTSTART:20261025T010000
END:STANDARD
BEGIN:DAYLIGHT
TZOFFSETFROM:+0100
TZOFFSETTO:+0200
TZNAME:CEST
DTSTART:20270328T010000
END:DAYLIGHT
BEGIN:STANDARD
TZOFFSETFROM:+0200
TZOFFSETTO:+0100
TZNAME:CET
DTSTART:20271031T010000
END:STANDARD
END:VTIMEZONE
BEGIN:VEVENT
DTSTART;TZID=Europe/Paris:20260126T120000
DTEND;TZID=Europe/Paris:20260126T140000
DTSTAMP:20260421T135351
CREATED:20260124T142413Z
LAST-MODIFIED:20260124T143401Z
UID:6820-1769428800-1769436000@quantenleap.com
SUMMARY:DiseñArte 2026
DESCRIPTION:Tienes deseos y metas de nuevo año?¿Te gustaría que sean algo más que bonitas intenciones?¿Tienes un plan de acción para hacer que ocurran?\n																														 \nDespués de apoyar a cientos de participantes en nuestros entrenamientos a crear y diseñar una vida que ellos aman con resultados óptimos en su vida\, y además\, llena vitalidad\, alegría\, excelentes relaciones y una vida apasionada\, libre y potente\, podemos afirmar que sabemos como apoyarte a crear un plan de acción. \n  \nSegún la investigación Self-initiated attempts to change behavior: a study of New Year’s Resolutions\, elaborada por G.A. Marlatt y B.E. Kaplan\, el 22% de las propósitos de Año Nuevo fracasarán tan solo una semana después de que comience enero y\, a final del mes\, el 40% de estos desafíos se habrá desvanecido. Confiamos en que esto no ocurra con tus propósitos en este nuevo año\, por esto hemos creado este reto para tí\, para apoyarte a crear un plan de acción\, aunque sabemos que el plan por si solo no hará nada\, es el grandioso inicio para tomar acción masiva y enfocada en tu vida de forma tal que lleves las riendas en el este año. \n  \n					\n									Si\, voy a Asistir\n					 \nEste evento es para tí si: \n  \n\nQuieres tomar acción para que este Año sea el mejor año de tu vida hasta ahora.\nNo sabes ni por dónde empezar ni cómo hacerlo\, te falta conocimiento\, te sientes perdid@ por tanta información y te bloqueas.\nTienes una vida que te gusta pero sientes que hace años no ocurre nada nuevo.\nTe sientes desanimad@ con los resultados y acabas por darte por vencid@ y tirar la toalla.\nSientes que a tu vida le falta un balance.\nNo te centras al 100% en la ejecución de las acciones. \nTe quedas a medias y no avanzas todo lo que deberías. \nTe falta constancia y disciplina.\nTe falta tiempo para planificar.\n\n Si te identificas con alguno de estos puntos\, esta reunión virtual DiseñARTE\, definitivamente es para tí.\n					\n									Si\, voy a Asistir\n					 \nTenemos para tí un programa diseñado y recontra comprobado a través de más 15 años de experiencia de aplicación. \n  \nOlvidate de posponer o procrastinar\, ya que esta vez vamos a realizarlo juntos y aseguramos que si usas nuestro apoyo\, ¡lo realizarás muy bien! \n  \nEn estos días haremos una evaluación del año anterior\, sacaremos aprendizajes\, dejaremos ir las cargas del año pasado y con un espacio sano\, nos dirigiremos a diseñar un plan consciente y detallado de lo que sí quieres que esté presente en tu vida este año\, con las acciones que te proponemos crearás un plan de acción\, ambicioso y alcanzable\, como decimos\, «con un pié en la tierra y el otro en la luna» y vamos por ello. \n  \nAl final y si te comprometes y haces todas las sesiones\, tendrás un norte hacia donde dirigir tus acciones en este año y que tus buenas y bonitas intenciones de este nuevo año\, se hagan realidad. \n  \nAdemás\, al apuntarte\, también podrás formar parte de una increíble comunidad en nuestro grupo privado en Facebook o Whatsapp donde podrás compartir tu progreso y revelaciones y recibir el apoyo de tus compañeros. ¡Así que no estás sol@\, esto hará más fácil y divertido recorrer este camino! \n					\n									Si\, voy a Asistir\n					 \nNos vemos en el evento listos a Diseñar nuestra vida como una obra de Arte\, Abrazotes.
URL:https://quantenleap.com/eventos/disenarte-2026
LOCATION:Online\, Zoom
ORGANIZER;CN="Quanten Leap":MAILTO:enroll@quantenleap.com
END:VEVENT
BEGIN:VEVENT
DTSTART;TZID=Europe/Paris:20260419T190000
DTEND;TZID=Europe/Paris:20260419T210000
DTSTAMP:20260421T135351
CREATED:20260408T141928Z
LAST-MODIFIED:20260410T081944Z
UID:6904-1776625200-1776632400@quantenleap.com
SUMMARY:Cómo construir un propósito de vida con claridad real (sin seguir perdido)
DESCRIPTION:Hay una pregunta que muchas personas se hacen durante años: \n“¿Cuál es mi propósito?” \nY la mayoría la busca como si fuera algo que tiene que aparecer. \nComo si un día\, de repente\, todo encajara. \nPero no ocurre. \nY pasan los años. \nY sigues sintiendo que podrías estar haciendo algo más…pero no sabes exactamente qué. \n																														 \nLa realidad es otra: \nEl propósito no se encuentra… Se construye!  Y se construye con decisiones. \nEste domingo 19\, vamos a estar junto a Alessia Grani —psicóloga y entrenadora con más de 20 años de experiencia— en un taller online donde vamos a trabajar esto de forma directa. \nNo desde la teoría. \nNo desde la motivación. \nCuando? \n📅 Domingo 19🕖 19:00 (España)⏳ Duración: 2 horas📍 Online \n					\n									Si\, voy a Asistir\n					 \nEste evento es para tí si: \n  \n\nQuieres tomar acción para que este Año sea el mejor año de tu vida hasta ahora.\nNo sabes ni por dónde empezar ni cómo hacerlo\, te falta conocimiento\, te sientes perdid@ por tanta información y te bloqueas.\nTienes una vida que te gusta pero sientes que hace años no ocurre nada nuevo.\nTe sientes desanimad@ con los resultados y acabas por darte por vencid@ y tirar la toalla.\nSientes que a tu vida le falta un balance.\nNo te centras al 100% en la ejecución de las acciones. \nTe quedas a medias y no avanzas todo lo que deberías. \nTe falta constancia y disciplina.\nTe falta tiempo para planificar.\n\n Si te identificas con alguno de estos puntos\, esta reunión virtual\, definitivamente es para tí.\n					\n									Si\, voy a Asistir\n					 \nNos vemos en el evento listos a Diseñar nuestros propósitos!
URL:https://quantenleap.com/eventos/como-construir-un-proposito-de-vida-con-claridad-real-sin-seguir-perdido
LOCATION:Zoom
ATTACH;FMTTYPE=image/png:https://quantenleap.com/wp-content/uploads/2026/04/LIVE-BUSINESS-WEBINAR.png
ORGANIZER;CN="Quanten Leap":MAILTO:enroll@quantenleap.com
END:VEVENT
BEGIN:VEVENT
DTSTART;TZID=Europe/Paris:20260529T130000
DTEND;TZID=Europe/Paris:20260531T193000
DTSTAMP:20260421T135351
CREATED:20260409T082404Z
LAST-MODIFIED:20260409T082404Z
UID:6928-1780059600-1780255800@quantenleap.com
SUMMARY:DescubrirSER
DESCRIPTION:
URL:https://quantenleap.com/eventos/descubrirser
END:VEVENT
END:VCALENDAR